BEGIN:VCALENDAR
VERSION:2.0
PRODID:-//Canadian Chamber of Commerce Vietnam - ECPv6.15.20//NONSGML v1.0//EN
CALSCALE:GREGORIAN
METHOD:PUBLISH
X-ORIGINAL-URL:https://canchamvietnam.org
X-WR-CALDESC:Events for Canadian Chamber of Commerce Vietnam
REFRESH-INTERVAL;VALUE=DURATION:PT1H
X-Robots-Tag:noindex
X-PUBLISHED-TTL:PT1H
BEGIN:VTIMEZONE
TZID:Asia/Ho_Chi_Minh
BEGIN:STANDARD
TZOFFSETFROM:+0700
TZOFFSETTO:+0700
TZNAME:+07
DTSTART:20250101T000000
END:STANDARD
END:VTIMEZONE
BEGIN:VEVENT
DTSTART;TZID=Asia/Ho_Chi_Minh:20260628T160000
DTEND;TZID=Asia/Ho_Chi_Minh:20260628T200000
DTSTAMP:20260423T054901
CREATED:20260422T042418Z
LAST-MODIFIED:20260422T042418Z
UID:2404-1782662400-1782676800@canchamvietnam.org
SUMMARY:Canada Day 2026
DESCRIPTION:Something exciting is on the way✨ \n\nWe’re getting ready to celebrate Canada Day on June 28\, and we can’t wait to bring everyone together for a day full of energy\, community\, and great moments. \n\nWe’re finalizing the details behind the scenes — trust us\, it’ll be worth the wait!More updates coming soon!
URL:https://canchamvietnam.org/event/canada-day-2026/
ATTACH;FMTTYPE=image/jpeg:https://canchamvietnam.org/wp-content/uploads/z7744610447287_a1767442e2b6bda3ff239d93bd82b229-scaled.jpg
END:VEVENT
END:VCALENDAR